BEGIN:VCALENDAR
VERSION:2.0
PRODID:-//Vandyke Upper School - ECPv4.6.20.1//NONSGML v1.0//EN
CALSCALE:GREGORIAN
METHOD:PUBLISH
X-WR-CALNAME:Vandyke Upper School
X-ORIGINAL-URL:https://vandyke.beds.sch.uk
X-WR-CALDESC:Events for Vandyke Upper School
BEGIN:VEVENT
DTSTART;TZID=UTC+0:20251112T170000
DTEND;TZID=UTC+0:20251112T193000
DTSTAMP:20260422T175935
CREATED:20250704T120324Z
LAST-MODIFIED:20250704T120324Z
UID:19261-1762966800-1762975800@vandyke.beds.sch.uk
SUMMARY:Y9 INFORMATION EVENING
DESCRIPTION:
URL:https://vandyke.beds.sch.uk/event/y9-information-evening/
END:VEVENT
END:VCALENDAR