BEGIN:VCALENDAR
VERSION:2.0
PRODID:-//Vandyke Upper School - ECPv4.6.20.1//NONSGML v1.0//EN
CALSCALE:GREGORIAN
METHOD:PUBLISH
X-WR-CALNAME:Vandyke Upper School
X-ORIGINAL-URL:https://vandyke.beds.sch.uk
X-WR-CALDESC:Events for Vandyke Upper School
BEGIN:VEVENT
DTSTART;VALUE=DATE:20260713
DTEND;VALUE=DATE:20260714
DTSTAMP:20260423T102927
CREATED:20250930T151603Z
LAST-MODIFIED:20250930T151603Z
UID:19648-1783900800-1783987199@vandyke.beds.sch.uk
SUMMARY:WEEK A
DESCRIPTION:
URL:https://vandyke.beds.sch.uk/event/week-a-20/
END:VEVENT
END:VCALENDAR