BEGIN:VCALENDAR
VERSION:2.0
PRODID:-//Vandyke Upper School - ECPv4.6.20.1//NONSGML v1.0//EN
CALSCALE:GREGORIAN
METHOD:PUBLISH
X-WR-CALNAME:Vandyke Upper School
X-ORIGINAL-URL:https://vandyke.beds.sch.uk
X-WR-CALDESC:Events for Vandyke Upper School
BEGIN:VEVENT
DTSTART;VALUE=DATE:20260216
DTEND;VALUE=DATE:20260221
DTSTAMP:20260422T084333
CREATED:20250704T123135Z
LAST-MODIFIED:20250704T123135Z
UID:19309-1771200000-1771631999@vandyke.beds.sch.uk
SUMMARY:HALF TERM
DESCRIPTION:
URL:https://vandyke.beds.sch.uk/event/half-term-2/
END:VEVENT
END:VCALENDAR